BEGIN:VCALENDAR
VERSION:2.0
PRODID:-//jEvents 2.0 for Joomla//EN
CALSCALE:GREGORIAN
METHOD:PUBLISH
BEGIN:VTIMEZONE
TZID:America/Chicago
BEGIN:STANDARD
DTSTART:20230216T073000
RDATE:20230312T030000
TZOFFSETFROM:-0500
TZOFFSETTO:-0600
TZNAME:America/Chicago CST
END:STANDARD
BEGIN:STANDARD
DTSTART:20231105T010000
RDATE:20240310T030000
TZOFFSETFROM:-0500
TZOFFSETTO:-0600
TZNAME:America/Chicago CST
END:STANDARD
BEGIN:STANDARD
DTSTART:20241103T010000
RDATE:20250309T030000
TZOFFSETFROM:-0500
TZOFFSETTO:-0600
TZNAME:America/Chicago CST
END:STANDARD
BEGIN:STANDARD
DTSTART:20251102T010000
RDATE:20260308T030000
TZOFFSETFROM:-0500
TZOFFSETTO:-0600
TZNAME:America/Chicago CST
END:STANDARD
BEGIN:STANDARD
DTSTART:20261101T010000
RDATE:20270314T030000
TZOFFSETFROM:-0500
TZOFFSETTO:-0600
TZNAME:America/Chicago CST
END:STANDARD
BEGIN:STANDARD
DTSTART:20271107T010000
RDATE:20280312T030000
TZOFFSETFROM:-0500
TZOFFSETTO:-0600
TZNAME:America/Chicago CST
END:STANDARD
BEGIN:STANDARD
DTSTART:20281105T010000
RDATE:20290311T030000
TZOFFSETFROM:-0500
TZOFFSETTO:-0600
TZNAME:America/Chicago CST
END:STANDARD
BEGIN:DAYLIGHT
DTSTART:20230312T030000
RDATE:20231105T010000
TZOFFSETFROM:-0600
TZOFFSETTO:-0500
TZNAME:America/Chicago CDT
END:DAYLIGHT
BEGIN:DAYLIGHT
DTSTART:20240310T030000
RDATE:20241103T010000
TZOFFSETFROM:-0600
TZOFFSETTO:-0500
TZNAME:America/Chicago CDT
END:DAYLIGHT
BEGIN:DAYLIGHT
DTSTART:20250309T030000
RDATE:20251102T010000
TZOFFSETFROM:-0600
TZOFFSETTO:-0500
TZNAME:America/Chicago CDT
END:DAYLIGHT
BEGIN:DAYLIGHT
DTSTART:20260308T030000
RDATE:20261101T010000
TZOFFSETFROM:-0600
TZOFFSETTO:-0500
TZNAME:America/Chicago CDT
END:DAYLIGHT
BEGIN:DAYLIGHT
DTSTART:20270314T030000
RDATE:20271107T010000
TZOFFSETFROM:-0600
TZOFFSETTO:-0500
TZNAME:America/Chicago CDT
END:DAYLIGHT
BEGIN:DAYLIGHT
DTSTART:20280312T030000
RDATE:20281105T010000
TZOFFSETFROM:-0600
TZOFFSETTO:-0500
TZNAME:America/Chicago CDT
END:DAYLIGHT
END:VTIMEZONE
BEGIN:VEVENT
UID:03718820aff41a2bb01998cefdbc0943
CATEGORIES:10K, Half Marathon, Other
CREATED:20230902T034043
SUMMARY:Heart of the Ozarks Half Marathon, 10K, 13.1 Relay - Mindy's Run
GEO:-91.85121155;36.72794342
LOCATION:Post Office Event Center - 204 East Main Street\, West Plains\, MO\, 65775\
 , 
URL;VALUE=URI:https://beta.actnowracing.com/events/916/heart-of-the-ozarks-half-marathon-
 10k-13-1-relay-mindys-run-geo-91-85121155-36-72794342?tmpl=component
DESCRIPTION:<p>Come run in a fun and challenging half marathon, 10k, or half marathon r
 elay in the beautiful Ozarks town of West Plains, MO. Not up for 13.1 or a 
 10k? Our Mindy's Run may be right for you. It is a 2.5 mile fun run/walk de
 dicated to the honor of a former West Plains runner. There's a race for eve
 ryone.</p><p>The Heart of the Ozarks Half Marathon is a chip timed event wi
 th a great course. It is a fast course, but there are several challenging h
 ills that you'll tell your friends back home about. We offer all of the ame
 nities of a much larger race, but with the personality and hospitality of a
  small town event. The course is very well marked and manned with plenty of
  excited volunteers. Aid Stations and port-a-pots are plentiful and are str
 ategically located to help you along the way.</p><p>Half marathon, 10k, and
  Mindy's Run finishers receive a beautiful custom finisher's medal. All ent
 rants get a comfortable race shirt and your choice of an extra swag item. E
 veryone is invited to enjoy all the home made, hot and tasty post race refr
 eshments that you can eat. Hang out in the warm Historic Post Office Event 
 Center and share stories with other racers while you wait a very short time
  for your awards. This race is extremely well organized. The course is mark
 ed very well and there are lots of excited, happy volunteers to help you al
 ong. You'll love the atmosphere of this race. Come run with us.</p><h4 styl
 e="text-align: center;"><strong><a href="http://www.heartoftheozarkshalfmar
 athon.com/index.html" target="_blank" rel="noopener">CLICK HERE FOR MORE IN
 FORMATION &amp; TO GET REGISTERED</a></strong></h4> <a href="https://beta.a
 ctnowracing.com/events/916/heart-of-the-ozarks-half-marathon-10k-13-1-relay
 -mindys-run-geo-91-85121155-36-72794342?tmpl=component">This event was impo
 rted from: https://beta.actnowracing.com/events/916/heart-of-the-ozarks-hal
 f-marathon-10k-13-1-relay-mindys-run-geo-91-85121155-36-72794342?tmpl=compo
 nent</a>DTSTAMP:20260423T173406
DTSTART;TZID=America/Chicago:20240217T073000
SEQUENCE:0
TRANSP:OPAQUE
END:VEVENT
END:VCALENDAR