BEGIN:VCALENDAR
VERSION:2.0
PRODID:-//jEvents 2.0 for Joomla//EN
CALSCALE:GREGORIAN
METHOD:PUBLISH
BEGIN:VTIMEZONE
TZID:America/Chicago
BEGIN:STANDARD
DTSTART:20221110T093000
RDATE:20230312T030000
TZOFFSETFROM:-0500
TZOFFSETTO:-0600
TZNAME:America/Chicago CST
END:STANDARD
BEGIN:STANDARD
DTSTART:20231105T010000
RDATE:20240310T030000
TZOFFSETFROM:-0500
TZOFFSETTO:-0600
TZNAME:America/Chicago CST
END:STANDARD
BEGIN:STANDARD
DTSTART:20241103T010000
RDATE:20250309T030000
TZOFFSETFROM:-0500
TZOFFSETTO:-0600
TZNAME:America/Chicago CST
END:STANDARD
BEGIN:STANDARD
DTSTART:20251102T010000
RDATE:20260308T030000
TZOFFSETFROM:-0500
TZOFFSETTO:-0600
TZNAME:America/Chicago CST
END:STANDARD
BEGIN:STANDARD
DTSTART:20261101T010000
RDATE:20270314T030000
TZOFFSETFROM:-0500
TZOFFSETTO:-0600
TZNAME:America/Chicago CST
END:STANDARD
BEGIN:STANDARD
DTSTART:20271107T010000
RDATE:20280312T030000
TZOFFSETFROM:-0500
TZOFFSETTO:-0600
TZNAME:America/Chicago CST
END:STANDARD
BEGIN:STANDARD
DTSTART:20281105T010000
RDATE:20290311T030000
TZOFFSETFROM:-0500
TZOFFSETTO:-0600
TZNAME:America/Chicago CST
END:STANDARD
BEGIN:DAYLIGHT
DTSTART:20230312T030000
RDATE:20231105T010000
TZOFFSETFROM:-0600
TZOFFSETTO:-0500
TZNAME:America/Chicago CDT
END:DAYLIGHT
BEGIN:DAYLIGHT
DTSTART:20240310T030000
RDATE:20241103T010000
TZOFFSETFROM:-0600
TZOFFSETTO:-0500
TZNAME:America/Chicago CDT
END:DAYLIGHT
BEGIN:DAYLIGHT
DTSTART:20250309T030000
RDATE:20251102T010000
TZOFFSETFROM:-0600
TZOFFSETTO:-0500
TZNAME:America/Chicago CDT
END:DAYLIGHT
BEGIN:DAYLIGHT
DTSTART:20260308T030000
RDATE:20261101T010000
TZOFFSETFROM:-0600
TZOFFSETTO:-0500
TZNAME:America/Chicago CDT
END:DAYLIGHT
BEGIN:DAYLIGHT
DTSTART:20270314T030000
RDATE:20271107T010000
TZOFFSETFROM:-0600
TZOFFSETTO:-0500
TZNAME:America/Chicago CDT
END:DAYLIGHT
BEGIN:DAYLIGHT
DTSTART:20280312T030000
RDATE:20281105T010000
TZOFFSETFROM:-0600
TZOFFSETTO:-0500
TZNAME:America/Chicago CDT
END:DAYLIGHT
END:VTIMEZONE
BEGIN:VEVENT
UID:53aaba65bbbcc19a27aab3da2d4830fe
CATEGORIES:5K
CREATED:20230911T094354
SUMMARY:4th Annual MG Hero Run 5K
GEO:-93.28251648;37.05237579
LOCATION:Nixa Community Center - 701 N Taylor Way\, Nixa\, MO\, 65714\, 
URL;VALUE=URI:https://beta.actnowracing.com/events/918/4th-annual-mg-hero-run-5k-geo-93-2
 8251648-37-05237579?tmpl=component
DESCRIPTION:Who Are You Running For?\nThe Massengale Group Hero Run 5K and community ev
 ent is for active and retired military, veterans, and their family and frie
 nds. Founded by MGKW, whose business is comprised of several proud military
  families, and in conjunction with Nixa Education Foundation, and located i
 n Nixa, Mo. This 5k is designed to benefit local kids of active and retired
  military and to promote awareness and support for those who serve. Last ye
 ar, this run was able to raise $6000 in scholarship monies, that was fully 
 awarded to a local Nixa Senior and daughter or one of our local military he
 roes. We can't wait to see what we can do this year with your help!!\nRegis
 ter yourself or your team today..and tell us...WHO are YOU running for???"\
 n5K - 1 Mile Fun/Run - Kids Zone - Warriors Wall\n This event was imported 
 from: https://beta.actnowracing.com/events/918/4th-annual-mg-hero-run-5k-ge
 o-93-28251648-37-05237579?tmpl=component
X-ALT-DESC;FMTTYPE=text/html:<p>Who Are You Running For?</p><p>The Massengale Group Hero Run 5K and comm
 unity event is for active and retired military, veterans, and their family 
 and friends. Founded by MGKW, whose business is comprised of several proud 
 military families, and in conjunction with Nixa Education Foundation, and l
 ocated in Nixa, Mo. This 5k is designed to benefit local kids of active and
  retired military and to promote awareness and support for those who serve.
  Last year, this run was able to raise $6000 in scholarship monies, that wa
 s fully awarded to a local Nixa Senior and daughter or one of our local mil
 itary heroes. We can't wait to see what we can do this year with your help!
 !</p><p>Register yourself or your team today..and tell us...WHO are YOU run
 ning for???"</p><p style="text-align: center;"><strong>5K - 1 Mile Fun/Run 
 - Kids Zone - Warriors Wall</strong></p> <a href="https://beta.actnowracing
 .com/events/918/4th-annual-mg-hero-run-5k-geo-93-28251648-37-05237579?tmpl=
 component">This event was imported from: https://beta.actnowracing.com/even
 ts/918/4th-annual-mg-hero-run-5k-geo-93-28251648-37-05237579?tmpl=component
 </a>DTSTAMP:20260425T005328
DTSTART;TZID=America/Chicago:20231111T093000
SEQUENCE:0
TRANSP:OPAQUE
END:VEVENT
END:VCALENDAR