BEGIN:VCALENDAR
VERSION:2.0
PRODID:-//jEvents 2.0 for Joomla//EN
CALSCALE:GREGORIAN
METHOD:PUBLISH
BEGIN:VTIMEZONE
TZID:America/Chicago
BEGIN:STANDARD
DTSTART:20231105T010000
RDATE:20240310T030000
TZOFFSETFROM:-0500
TZOFFSETTO:-0600
TZNAME:America/Chicago CST
END:STANDARD
BEGIN:STANDARD
DTSTART:20241103T010000
RDATE:20250309T030000
TZOFFSETFROM:-0500
TZOFFSETTO:-0600
TZNAME:America/Chicago CST
END:STANDARD
BEGIN:STANDARD
DTSTART:20251102T010000
RDATE:20260308T030000
TZOFFSETFROM:-0500
TZOFFSETTO:-0600
TZNAME:America/Chicago CST
END:STANDARD
BEGIN:STANDARD
DTSTART:20261101T010000
RDATE:20270314T030000
TZOFFSETFROM:-0500
TZOFFSETTO:-0600
TZNAME:America/Chicago CST
END:STANDARD
BEGIN:STANDARD
DTSTART:20271107T010000
RDATE:20280312T030000
TZOFFSETFROM:-0500
TZOFFSETTO:-0600
TZNAME:America/Chicago CST
END:STANDARD
BEGIN:STANDARD
DTSTART:20281105T010000
RDATE:20290311T030000
TZOFFSETFROM:-0500
TZOFFSETTO:-0600
TZNAME:America/Chicago CST
END:STANDARD
BEGIN:DAYLIGHT
DTSTART:20230928T090000
RDATE:20231105T010000
TZOFFSETFROM:-0600
TZOFFSETTO:-0500
TZNAME:America/Chicago CDT
END:DAYLIGHT
BEGIN:DAYLIGHT
DTSTART:20240310T030000
RDATE:20241103T010000
TZOFFSETFROM:-0600
TZOFFSETTO:-0500
TZNAME:America/Chicago CDT
END:DAYLIGHT
BEGIN:DAYLIGHT
DTSTART:20250309T030000
RDATE:20251102T010000
TZOFFSETFROM:-0600
TZOFFSETTO:-0500
TZNAME:America/Chicago CDT
END:DAYLIGHT
BEGIN:DAYLIGHT
DTSTART:20260308T030000
RDATE:20261101T010000
TZOFFSETFROM:-0600
TZOFFSETTO:-0500
TZNAME:America/Chicago CDT
END:DAYLIGHT
BEGIN:DAYLIGHT
DTSTART:20270314T030000
RDATE:20271107T010000
TZOFFSETFROM:-0600
TZOFFSETTO:-0500
TZNAME:America/Chicago CDT
END:DAYLIGHT
BEGIN:DAYLIGHT
DTSTART:20280312T030000
RDATE:20281105T010000
TZOFFSETFROM:-0600
TZOFFSETTO:-0500
TZNAME:America/Chicago CDT
END:DAYLIGHT
END:VTIMEZONE
BEGIN:VEVENT
UID:fff3da347ca819c957d403d5b3a3d1f2
CATEGORIES:5K, 1 Mile
CREATED:20240110T051705
SUMMARY:Mercy Aurora and Cassville Run to Care
GEO:-93.71004486;36.96978378
LOCATION:Mercy Aurora Clinic - 550 South Hudson\, Aurora\, MO\, \, 
URL;VALUE=URI:https://beta.actnowracing.com/events/935/mercy-aurora-and-cassville-run-to-
 care-geo-93-71004486-36-96978378?tmpl=component
DESCRIPTION:We are gearing up for our 7th Annual Run to Care and cannot be more excited
  about this year’s event!!!!! ACTNOW Racing will be back this year and will
  be running the show at the start/finish line. The timing will be done via 
 chip on your runners bib but you are still welcome to walk if you would pre
 fer and you can still bring your dogs on a leash.\nRace proceeds will benef
 it the Mercy Aurora &amp; Cassville Mission fund, a fund that supports pati
 ent needs such as prescriptions, transportation, food, clothes, diapers, et
 c.\n This event was imported from: https://beta.actnowracing.com/events/935
 /mercy-aurora-and-cassville-run-to-care-geo-93-71004486-36-96978378?tmpl=co
 mponent
X-ALT-DESC;FMTTYPE=text/html:<p>We are gearing up for our 7th Annual Run to Care and cannot be more exci
 ted about this year’s event!!!!! ACTNOW Racing will be back this year and w
 ill be running the show at the start/finish line. The timing will be done v
 ia chip on your runners bib but you are still welcome to walk if you would 
 prefer and you can still bring your dogs on a leash.</p><p>Race proceeds wi
 ll benefit the Mercy Aurora &amp; Cassville Mission fund, a fund that suppo
 rts patient needs such as prescriptions, transportation, food, clothes, dia
 pers, etc.</p> <a href="https://beta.actnowracing.com/events/935/mercy-auro
 ra-and-cassville-run-to-care-geo-93-71004486-36-96978378?tmpl=component">Th
 is event was imported from: https://beta.actnowracing.com/events/935/mercy-
 aurora-and-cassville-run-to-care-geo-93-71004486-36-96978378?tmpl=component
 </a>CONTACT:Christine Forrester at RegularLabs.EmailProtector.unCloak("ep_1cb67f09");
DTSTAMP:20260424T233932
DTSTART;TZID=America/Chicago:20240928T090000
SEQUENCE:0
TRANSP:OPAQUE
END:VEVENT
END:VCALENDAR