BEGIN:VCALENDAR
VERSION:2.0
PRODID:-//jEvents 2.0 for Joomla//EN
CALSCALE:GREGORIAN
METHOD:PUBLISH
BEGIN:VTIMEZONE
TZID:America/Chicago
BEGIN:STANDARD
DTSTART:20231105T010000
RDATE:20240310T030000
TZOFFSETFROM:-0500
TZOFFSETTO:-0600
TZNAME:America/Chicago CST
END:STANDARD
BEGIN:STANDARD
DTSTART:20241103T010000
RDATE:20250309T030000
TZOFFSETFROM:-0500
TZOFFSETTO:-0600
TZNAME:America/Chicago CST
END:STANDARD
BEGIN:STANDARD
DTSTART:20251102T010000
RDATE:20260308T030000
TZOFFSETFROM:-0500
TZOFFSETTO:-0600
TZNAME:America/Chicago CST
END:STANDARD
BEGIN:STANDARD
DTSTART:20261101T010000
RDATE:20270314T030000
TZOFFSETFROM:-0500
TZOFFSETTO:-0600
TZNAME:America/Chicago CST
END:STANDARD
BEGIN:STANDARD
DTSTART:20271107T010000
RDATE:20280312T030000
TZOFFSETFROM:-0500
TZOFFSETTO:-0600
TZNAME:America/Chicago CST
END:STANDARD
BEGIN:STANDARD
DTSTART:20281105T010000
RDATE:20290311T030000
TZOFFSETFROM:-0500
TZOFFSETTO:-0600
TZNAME:America/Chicago CST
END:STANDARD
BEGIN:DAYLIGHT
DTSTART:20230621T180000
RDATE:20231105T010000
TZOFFSETFROM:-0600
TZOFFSETTO:-0500
TZNAME:America/Chicago CDT
END:DAYLIGHT
BEGIN:DAYLIGHT
DTSTART:20240310T030000
RDATE:20241103T010000
TZOFFSETFROM:-0600
TZOFFSETTO:-0500
TZNAME:America/Chicago CDT
END:DAYLIGHT
BEGIN:DAYLIGHT
DTSTART:20250309T030000
RDATE:20251102T010000
TZOFFSETFROM:-0600
TZOFFSETTO:-0500
TZNAME:America/Chicago CDT
END:DAYLIGHT
BEGIN:DAYLIGHT
DTSTART:20260308T030000
RDATE:20261101T010000
TZOFFSETFROM:-0600
TZOFFSETTO:-0500
TZNAME:America/Chicago CDT
END:DAYLIGHT
BEGIN:DAYLIGHT
DTSTART:20270314T030000
RDATE:20271107T010000
TZOFFSETFROM:-0600
TZOFFSETTO:-0500
TZNAME:America/Chicago CDT
END:DAYLIGHT
BEGIN:DAYLIGHT
DTSTART:20280312T030000
RDATE:20281105T010000
TZOFFSETFROM:-0600
TZOFFSETTO:-0500
TZNAME:America/Chicago CDT
END:DAYLIGHT
END:VTIMEZONE
BEGIN:VEVENT
UID:9bae6e757f665c2deee3d63a3daabfdf
CATEGORIES:5K
CREATED:20240208T042812
SUMMARY:2024 Raptor Run
GEO:-93.32967377;37.10590363
LOCATION:Missouri Institute of Natural Science - 2327 W. Farm Road 190\, Springfield
 \, MO\, \, 
URL;VALUE=URI:https://beta.actnowracing.com/events/948/2024-raptor-run-geo-93-32967377-37
 -10590363?tmpl=component
DESCRIPTION:<p>Bring the family for a night of fun to help fund the Missouri Institute 
 of Natural Science and Riverbluff Cave! Run or walk the 5K and and stick ar
 ound for free tours of the museum in addition to activities (some just fun,
  some educational!) for the kids. Enjoy the museum grounds on this sure to 
 be Spectacular Spring Evening! Complete with fossil dig for kids, popcorn, 
 snacks and other entertainment. For more information on the museum or the c
 ave visit <a href="https://www.MoNatSci.org. " target="_blank" rel="noopene
 r">www.MoNatSci.org. </a></p><p>The funds from this fundraiser will go to t
 he museum and to aid continuation of the search for fossils within Riverblu
 ff Cave. In addition, donations will aid in partnering with area schools to
  offer educational experiences to local students on Missouri’s natural hist
 ory and its fragile ecosystem.</p><p style="text-align: center;"><strong>ON
 LINE REGISTRATION IS CLOSING WEDNESDAY, JUNE 19TH AT 4:30PM</strong></p> <a
  href="https://beta.actnowracing.com/events/948/2024-raptor-run-geo-93-3296
 7377-37-10590363?tmpl=component">This event was imported from: https://beta
 .actnowracing.com/events/948/2024-raptor-run-geo-93-32967377-37-10590363?tm
 pl=component</a>CONTACT:MO Institute of Natural Science at RegularLabs.EmailProtector.unCloak("ep_0cb597b4");
DTSTAMP:20260422T201824
DTSTART;TZID=America/Chicago:20240621T180000
SEQUENCE:0
TRANSP:OPAQUE
END:VEVENT
END:VCALENDAR