BEGIN:VCALENDAR
VERSION:2.0
PRODID:-//jEvents 2.0 for Joomla//EN
CALSCALE:GREGORIAN
METHOD:PUBLISH
BEGIN:VTIMEZONE
TZID:America/Chicago
BEGIN:STANDARD
DTSTART:20231105T010000
RDATE:20240310T030000
TZOFFSETFROM:-0500
TZOFFSETTO:-0600
TZNAME:America/Chicago CST
END:STANDARD
BEGIN:STANDARD
DTSTART:20241103T010000
RDATE:20250309T030000
TZOFFSETFROM:-0500
TZOFFSETTO:-0600
TZNAME:America/Chicago CST
END:STANDARD
BEGIN:STANDARD
DTSTART:20251102T010000
RDATE:20260308T030000
TZOFFSETFROM:-0500
TZOFFSETTO:-0600
TZNAME:America/Chicago CST
END:STANDARD
BEGIN:STANDARD
DTSTART:20261101T010000
RDATE:20270314T030000
TZOFFSETFROM:-0500
TZOFFSETTO:-0600
TZNAME:America/Chicago CST
END:STANDARD
BEGIN:STANDARD
DTSTART:20271107T010000
RDATE:20280312T030000
TZOFFSETFROM:-0500
TZOFFSETTO:-0600
TZNAME:America/Chicago CST
END:STANDARD
BEGIN:STANDARD
DTSTART:20281105T010000
RDATE:20290311T030000
TZOFFSETFROM:-0500
TZOFFSETTO:-0600
TZNAME:America/Chicago CST
END:STANDARD
BEGIN:DAYLIGHT
DTSTART:20231026T090000
RDATE:20231105T010000
TZOFFSETFROM:-0600
TZOFFSETTO:-0500
TZNAME:America/Chicago CDT
END:DAYLIGHT
BEGIN:DAYLIGHT
DTSTART:20240310T030000
RDATE:20241103T010000
TZOFFSETFROM:-0600
TZOFFSETTO:-0500
TZNAME:America/Chicago CDT
END:DAYLIGHT
BEGIN:DAYLIGHT
DTSTART:20250309T030000
RDATE:20251102T010000
TZOFFSETFROM:-0600
TZOFFSETTO:-0500
TZNAME:America/Chicago CDT
END:DAYLIGHT
BEGIN:DAYLIGHT
DTSTART:20260308T030000
RDATE:20261101T010000
TZOFFSETFROM:-0600
TZOFFSETTO:-0500
TZNAME:America/Chicago CDT
END:DAYLIGHT
BEGIN:DAYLIGHT
DTSTART:20270314T030000
RDATE:20271107T010000
TZOFFSETFROM:-0600
TZOFFSETTO:-0500
TZNAME:America/Chicago CDT
END:DAYLIGHT
BEGIN:DAYLIGHT
DTSTART:20280312T030000
RDATE:20281105T010000
TZOFFSETFROM:-0600
TZOFFSETTO:-0500
TZNAME:America/Chicago CDT
END:DAYLIGHT
END:VTIMEZONE
BEGIN:VEVENT
UID:16a2253aa76f7abaa79dbe3ad3082813
CATEGORIES:5K
CREATED:20240229T050249
SUMMARY:All Saints 5K
GEO:-93.21633911;37.04664612
LOCATION:St. Joseph the Worker Catholic Church - 1796 N. State Hwy NN\, Ozark\, MO\,
  \, 
URL;VALUE=URI:https://beta.actnowracing.com/events/970/all-saints-5k-geo-93-21633911-37-0
 4664612?tmpl=component
DESCRIPTION:Join us on Saturday, October 26th for the Annual St. Joseph the Worker All 
 Saints 5K.\nEnjoy a FREE pancake breakfast after the run! Our Knight of Col
 umbus will have the pancakes ready for everyone after we cross the finish l
 ine!\n This event was imported from: https://beta.actnowracing.com/events/9
 70/all-saints-5k-geo-93-21633911-37-04664612?tmpl=component
X-ALT-DESC;FMTTYPE=text/html:<p>Join us on Saturday, October 26th for the Annual St. Joseph the Worker A
 ll Saints 5K.</p><p>Enjoy a FREE pancake breakfast after the run! Our Knigh
 t of Columbus will have the pancakes ready for everyone after we cross the 
 finish line!</p> <a href="https://beta.actnowracing.com/events/970/all-sain
 ts-5k-geo-93-21633911-37-04664612?tmpl=component">This event was imported f
 rom: https://beta.actnowracing.com/events/970/all-saints-5k-geo-93-21633911
 -37-04664612?tmpl=component</a>CONTACT:RegularLabs.EmailProtector.unCloak("ep_0dc2100b");
DTSTAMP:20260425T025021
DTSTART;TZID=America/Chicago:20241026T090000
SEQUENCE:0
TRANSP:OPAQUE
END:VEVENT
END:VCALENDAR