BEGIN:VCALENDAR
VERSION:2.0
PRODID:-//jEvents 2.0 for Joomla//EN
CALSCALE:GREGORIAN
METHOD:PUBLISH
BEGIN:VTIMEZONE
TZID:America/Chicago
BEGIN:STANDARD
DTSTART:20231105T010000
RDATE:20240310T030000
TZOFFSETFROM:-0500
TZOFFSETTO:-0600
TZNAME:America/Chicago CST
END:STANDARD
BEGIN:STANDARD
DTSTART:20241103T010000
RDATE:20250309T030000
TZOFFSETFROM:-0500
TZOFFSETTO:-0600
TZNAME:America/Chicago CST
END:STANDARD
BEGIN:STANDARD
DTSTART:20251102T010000
RDATE:20260308T030000
TZOFFSETFROM:-0500
TZOFFSETTO:-0600
TZNAME:America/Chicago CST
END:STANDARD
BEGIN:STANDARD
DTSTART:20261101T010000
RDATE:20270314T030000
TZOFFSETFROM:-0500
TZOFFSETTO:-0600
TZNAME:America/Chicago CST
END:STANDARD
BEGIN:STANDARD
DTSTART:20271107T010000
RDATE:20280312T030000
TZOFFSETFROM:-0500
TZOFFSETTO:-0600
TZNAME:America/Chicago CST
END:STANDARD
BEGIN:STANDARD
DTSTART:20281105T010000
RDATE:20290311T030000
TZOFFSETFROM:-0500
TZOFFSETTO:-0600
TZNAME:America/Chicago CST
END:STANDARD
BEGIN:DAYLIGHT
DTSTART:20230520T183000
RDATE:20231105T010000
TZOFFSETFROM:-0600
TZOFFSETTO:-0500
TZNAME:America/Chicago CDT
END:DAYLIGHT
BEGIN:DAYLIGHT
DTSTART:20240310T030000
RDATE:20241103T010000
TZOFFSETFROM:-0600
TZOFFSETTO:-0500
TZNAME:America/Chicago CDT
END:DAYLIGHT
BEGIN:DAYLIGHT
DTSTART:20250309T030000
RDATE:20251102T010000
TZOFFSETFROM:-0600
TZOFFSETTO:-0500
TZNAME:America/Chicago CDT
END:DAYLIGHT
BEGIN:DAYLIGHT
DTSTART:20260308T030000
RDATE:20261101T010000
TZOFFSETFROM:-0600
TZOFFSETTO:-0500
TZNAME:America/Chicago CDT
END:DAYLIGHT
BEGIN:DAYLIGHT
DTSTART:20270314T030000
RDATE:20271107T010000
TZOFFSETFROM:-0600
TZOFFSETTO:-0500
TZNAME:America/Chicago CDT
END:DAYLIGHT
BEGIN:DAYLIGHT
DTSTART:20280312T030000
RDATE:20281105T010000
TZOFFSETFROM:-0600
TZOFFSETTO:-0500
TZNAME:America/Chicago CDT
END:DAYLIGHT
END:VTIMEZONE
BEGIN:VEVENT
UID:2f5f3b66da1f1533a2c2bbeb1e7a1f58
CATEGORIES:5K, 1 Mile
CREATED:20240303T052124
SUMMARY:Run and Remember 5K & 1 Mile
GEO:-93.28443146;37.2105484
LOCATION:Jordan Valley Park - 635 E. Traffic Way\, Springfield\, MO\, \, 
URL;VALUE=URI:https://beta.actnowracing.com/events/976/run-and-remember-5k-1-mile-geo-93-
 28443146-37-2105484?tmpl=component
DESCRIPTION:<p style="text-align: center;">Each year Lost &amp; Found Grief Center host
 s a 5K and 1 Mile memory walk. Run andRemember is more than a race or walk.
  Join us for a stroll in our Memorial Garden, honoring the lives of those w
 e have lost, as well as, a Remembrance Program at the end of the evening.</
 p><p style="text-align: center;"><strong><a href="https://lostandfoundozark
 s.com/run-and-remember/" target="_blank" rel="noopener">CLICK HERE TO GET R
 EGISTERED</a></strong></p> <a href="https://beta.actnowracing.com/events/97
 6/run-and-remember-5k-1-mile-geo-93-28443146-37-2105484?tmpl=component">Thi
 s event was imported from: https://beta.actnowracing.com/events/976/run-and
 -remember-5k-1-mile-geo-93-28443146-37-2105484?tmpl=component</a>CONTACT:Contact RegularLabs.EmailProtector.unCloak("ep_7a814af2"); for more information.
DTSTAMP:20260422T201911
DTSTART;TZID=America/Chicago:20240520T183000
SEQUENCE:0
TRANSP:OPAQUE
END:VEVENT
END:VCALENDAR