BEGIN:VCALENDAR
VERSION:2.0
PRODID:-//jEvents 2.0 for Joomla//EN
CALSCALE:GREGORIAN
METHOD:PUBLISH
BEGIN:VTIMEZONE
TZID:America/Chicago
BEGIN:STANDARD
DTSTART:20231105T010000
RDATE:20240310T030000
TZOFFSETFROM:-0500
TZOFFSETTO:-0600
TZNAME:America/Chicago CST
END:STANDARD
BEGIN:STANDARD
DTSTART:20241103T010000
RDATE:20250309T030000
TZOFFSETFROM:-0500
TZOFFSETTO:-0600
TZNAME:America/Chicago CST
END:STANDARD
BEGIN:STANDARD
DTSTART:20251102T010000
RDATE:20260308T030000
TZOFFSETFROM:-0500
TZOFFSETTO:-0600
TZNAME:America/Chicago CST
END:STANDARD
BEGIN:STANDARD
DTSTART:20261101T010000
RDATE:20270314T030000
TZOFFSETFROM:-0500
TZOFFSETTO:-0600
TZNAME:America/Chicago CST
END:STANDARD
BEGIN:STANDARD
DTSTART:20271107T010000
RDATE:20280312T030000
TZOFFSETFROM:-0500
TZOFFSETTO:-0600
TZNAME:America/Chicago CST
END:STANDARD
BEGIN:STANDARD
DTSTART:20281105T010000
RDATE:20290311T030000
TZOFFSETFROM:-0500
TZOFFSETTO:-0600
TZNAME:America/Chicago CST
END:STANDARD
BEGIN:DAYLIGHT
DTSTART:20230921T080000
RDATE:20231105T010000
TZOFFSETFROM:-0600
TZOFFSETTO:-0500
TZNAME:America/Chicago CDT
END:DAYLIGHT
BEGIN:DAYLIGHT
DTSTART:20240310T030000
RDATE:20241103T010000
TZOFFSETFROM:-0600
TZOFFSETTO:-0500
TZNAME:America/Chicago CDT
END:DAYLIGHT
BEGIN:DAYLIGHT
DTSTART:20250309T030000
RDATE:20251102T010000
TZOFFSETFROM:-0600
TZOFFSETTO:-0500
TZNAME:America/Chicago CDT
END:DAYLIGHT
BEGIN:DAYLIGHT
DTSTART:20260308T030000
RDATE:20261101T010000
TZOFFSETFROM:-0600
TZOFFSETTO:-0500
TZNAME:America/Chicago CDT
END:DAYLIGHT
BEGIN:DAYLIGHT
DTSTART:20270314T030000
RDATE:20271107T010000
TZOFFSETFROM:-0600
TZOFFSETTO:-0500
TZNAME:America/Chicago CDT
END:DAYLIGHT
BEGIN:DAYLIGHT
DTSTART:20280312T030000
RDATE:20281105T010000
TZOFFSETFROM:-0600
TZOFFSETTO:-0500
TZNAME:America/Chicago CDT
END:DAYLIGHT
END:VTIMEZONE
BEGIN:VEVENT
UID:f5a9f1ed8a654bd572a3dea92372f2bd
CATEGORIES:5K, 10K, 1 Mile
CREATED:20240313T084915
SUMMARY:Run Through the Darkness
GEO:-93.21303558;36.64141846
LOCATION:Branson Landing - 100 Branson Landing\, Branson\, MO\, \, 
URL;VALUE=URI:https://beta.actnowracing.com/events/980/run-through-the-darkness-geo-93-21
 303558-36-64141846?tmpl=component
DESCRIPTION:<p>Join us for the annual Run Through the Darkness 1 Mile, 5K and 10K hoste
 d by the Ozarks Serenity Club to help support recovery/mental health and su
 icide awareness.</p><p>Run Through the Darkness has been created to raise a
 wareness, provide vital information and to unite a community of people to s
 upport one another through Recovery, Mental Health and Suicide Awareness. O
 n September 21, 2024 we can Run/Walk Through the Darkness together. We have
  to get through the darkness to find the light and we all need each other t
 o do that.</p><p>All proceeds go to ozarks-serenityclub.com.</p> <a href="h
 ttps://beta.actnowracing.com/events/980/run-through-the-darkness-geo-93-213
 03558-36-64141846?tmpl=component">This event was imported from: https://bet
 a.actnowracing.com/events/980/run-through-the-darkness-geo-93-21303558-36-6
 4141846?tmpl=component</a>CONTACT:Cindy Kane at RegularLabs.EmailProtector.unCloak("ep_71801b36");
DTSTAMP:20260424T170836
DTSTART;TZID=America/Chicago:20240921T080000
SEQUENCE:0
TRANSP:OPAQUE
END:VEVENT
END:VCALENDAR